BEGIN:VCALENDAR
PRODID:-//AT Content Types//AT Event//EN
VERSION:2.0
METHOD:PUBLISH
BEGIN:VEVENT
DTSTAMP:20260425T200721Z
CREATED:20130418T194454Z
UID:ATEvent-a439d26a155f4eb58c80785115861308
LAST-MODIFIED:20190626T123257Z
SUMMARY:Vortrag Klaus Niehr
DTSTART:20080521T161500Z
DTEND:20080521T181500Z
DESCRIPTION:Vortrag Klaus Niehr: Dürers Bild der „Sieben Schmerzen 
 Mariens“ und die Bedeutung der retrospektiven Form
LOCATION:Zentralinstitut für Kunstgeschichte\, Vortragsraum 242\, II. OG\, Katharina-von-Bora-Straße 10\, 80333 München
CATEGORIES:2008
CLASS:PUBLIC
END:VEVENT
END:VCALENDAR
