BEGIN:VCALENDAR
PRODID:-//AT Content Types//AT Event//EN
VERSION:2.0
METHOD:PUBLISH
BEGIN:VEVENT
DTSTAMP:20260425T023427Z
CREATED:20130418T194459Z
UID:ATEvent-51ba83c56aa24a83b2c1904593485968
LAST-MODIFIED:20190626T131333Z
SUMMARY:Vortrag Detlef Hoffmann
DTSTART:20081203T171500Z
DTEND:20081203T191500Z
DESCRIPTION:Vortrag Detlef Hoffmann: Lawrence von Arabien: Die Entsteh
 ung eines Mythos
LOCATION:Zentralinstitut für Kunstgeschichte\, Vortragsraum 242\, II. OG\, Katharina-von-Bora-Straße 10\, 80333 München
CATEGORIES:2008
CLASS:PUBLIC
END:VEVENT
END:VCALENDAR
