BEGIN:VCALENDAR
PRODID:-//AT Content Types//AT Event//EN
VERSION:1.0
BEGIN:VEVENT
DTSTART:20081212T171500Z
DTEND:20081212T191500Z
DCREATED:20130418T194500Z
UID:ATEvent-5a82d342154f49e6920aa824ac2cd55f
SEQUENCE:0
LAST-MODIFIED:20190626T131349Z
SUMMARY:Festvortrag Dietrich Neumann
DESCRIPTION:Festvortrag Dietrich Neumann: Ein Wolkenkratzer für Musso
 lini: Mario Palanti's "Mole Littoria"-Projekt und die römische Stadtp
 lanung der Zwanziger Jahre
LOCATION:Zentralinstitut für Kunstgeschichte\, Vortragsraum 242\, II. OG\, Katharina-von-Bora-Straße 10\, 80333 München
PRIORITY:3
TRANSP:0
END:VEVENT
END:VCALENDAR
