BEGIN:VCALENDAR
PRODID:-//AT Content Types//AT Event//EN
VERSION:1.0
BEGIN:VEVENT
DTSTART:20081212T191500Z
DTEND:20081212T193000Z
DCREATED:20130418T194500Z
UID:ATEvent-99d62f019a91401eb35d5633a26416aa
SEQUENCE:0
LAST-MODIFIED:20190626T131355Z
SUMMARY:Ausstellungseröffnung „Nicht ganz bei Troost – architektonische Planspiele für ein neues ZI“
DESCRIPTION:Ausstellungseröffnung „Nicht ganz bei Troost – archit
 ektonische Planspiele für ein neues ZI“
LOCATION:Zentralinstitut für Kunstgeschichte\, Lichthof Nord\, I. OG\, Katharina-von-Bora-Straße 10\, 80333 München
PRIORITY:3
TRANSP:0
END:VEVENT
END:VCALENDAR
