BEGIN:VCALENDAR
PRODID:-//AT Content Types//AT Event//EN
VERSION:1.0
BEGIN:VEVENT
DTSTART:20090225T171500Z
DTEND:20090225T191500Z
DCREATED:20130418T194501Z
UID:ATEvent-810a8e821d8945fc96136368e6f12171
SEQUENCE:0
LAST-MODIFIED:20190626T145255Z
SUMMARY:Vortrag Iris Grötecke
DESCRIPTION:Vortrag Iris Grötecke: Körper und Kleid: Leiblicher Ausd
 ruck und soziale Erfahrung als Argumentationsmuster im Tafelbild
LOCATION:Zentralinstitut für Kunstgeschichte\, Vortragsraum 242\, II. OG\, Katharina-von-Bora-Straße 10\, 80333 München
PRIORITY:3
TRANSP:0
END:VEVENT
END:VCALENDAR
