BEGIN:VCALENDAR
PRODID:-//AT Content Types//AT Event//EN
VERSION:2.0
METHOD:PUBLISH
BEGIN:VEVENT
DTSTAMP:20260423T150449Z
CREATED:20130418T194502Z
UID:ATEvent-6f9b0c1564134e568adac6a89ecbb907
LAST-MODIFIED:20190626T145435Z
SUMMARY:Vortrag Olivier Bonfait
DTSTART:20090520T161500Z
DTEND:20090520T181500Z
DESCRIPTION:Vortrag Olivier Bonfait: How Paris stole the idea of Paint
 ing. Louis XIV\, Le Brun and Large Scale Painting
LOCATION:Zentralinstitut für Kunstgeschichte\, Vortragsraum 242\, II. OG\, Katharina-von-Bora-Straße 10\, 80333 München
CATEGORIES:2009
CLASS:PUBLIC
END:VEVENT
END:VCALENDAR
