BEGIN:VCALENDAR
PRODID:-//AT Content Types//AT Event//EN
VERSION:1.0
BEGIN:VEVENT
DTSTART:20090929T173000Z
DTEND:20090929T174500Z
DCREATED:20130418T194505Z
UID:ATEvent-7de9ea3547db46939c705ca81be3e0be
SEQUENCE:0
LAST-MODIFIED:20190626T150315Z
SUMMARY:Buchpräsentation: Das Parteizentrum der NSDAP in München
DESCRIPTION:Buchpräsentation: Ulrike Grammbitter\, Iris Lauterbach: D
 as Parteizentrum der NSDAP in München
LOCATION:Zentralinstitut für Kunstgeschichte\, Lichthof Nord\, I. OG\, Katharina-von-Bora-Straße 10\, 80333 München
PRIORITY:3
TRANSP:0
END:VEVENT
END:VCALENDAR
