BEGIN:VCALENDAR
PRODID:-//AT Content Types//AT Event//EN
VERSION:1.0
BEGIN:VEVENT
DTSTART:20091023T111500Z
DTEND:20091023T191500Z
DCREATED:20130418T194508Z
UID:ATEvent-127a73798783425ba8512d29d421cb6f
SEQUENCE:0
LAST-MODIFIED:20190626T150342Z
SUMMARY:Tagung "Das Mittelalter im Blick"
DESCRIPTION:Tagung "Das Mittelalter im Blick. Hundert Jahre Forschung 
 im Deutschen Verein für Kunstwissenschaft"
LOCATION:Zentralinstitut für Kunstgeschichte\, Vortragsraum 242\, II. OG\, Katharina-von-Bora-Straße 10\, 80333 München
PRIORITY:3
TRANSP:0
END:VEVENT
END:VCALENDAR
