BEGIN:VCALENDAR
PRODID:-//AT Content Types//AT Event//EN
VERSION:2.0
METHOD:PUBLISH
BEGIN:VEVENT
DTSTAMP:20260423T020823Z
CREATED:20130418T194509Z
UID:ATEvent-7be9196e6aed44fc82bbeb97235305b7
LAST-MODIFIED:20190626T150416Z
SUMMARY:Verleihung des Helmut-Seling-Preises
DTSTART:20091111T180000Z
DTEND:20091111T181500Z
DESCRIPTION:Verleihung des Helmut-Seling-Preises 2009 an Sylvia Stepha
 n
LOCATION:Zentralinstitut für Kunstgeschichte\, Vortragsraum 242\, II. OG\, Katharina-von-Bora-Straße 10\, 80333 München
CATEGORIES:2009
CLASS:PUBLIC
END:VEVENT
END:VCALENDAR
