BEGIN:VCALENDAR
PRODID:-//AT Content Types//AT Event//EN
VERSION:1.0
BEGIN:VEVENT
DTSTART:20091125T171500Z
DTEND:20091125T191500Z
DCREATED:20130418T194510Z
UID:ATEvent-4ba6b28c57ad48d183640ef17a33c8ae
SEQUENCE:0
LAST-MODIFIED:20250326T102117Z
SUMMARY:Vortrag Matthias Noell
DESCRIPTION:Vortrag Matthias Noell: "Matériaux bruts". Gefundenes\, A
 rrangiertes und Collagiertes in der Architektur des 20. Jahrhunderts
LOCATION:Zentralinstitut für Kunstgeschichte\, Vortragsraum 242\, II. OG\, Katharina-von-Bora-Straße 10\, 80333 München
PRIORITY:3
TRANSP:0
END:VEVENT
END:VCALENDAR
