BEGIN:VCALENDAR
PRODID:-//AT Content Types//AT Event//EN
VERSION:2.0
METHOD:PUBLISH
BEGIN:VEVENT
DTSTAMP:20260420T165640Z
CREATED:20130730T104848Z
UID:ATEvent-9feffde6441c4a149681835418369e2e
LAST-MODIFIED:20190626T150609Z
SUMMARY:Workshop Martino Stierli
DTSTART:20091119T160000Z
DTEND:20091119T180000Z
DESCRIPTION:Workshop M. Stierli: Mies van der Rohe und die (Foto-)Coll
 age
LOCATION:Zentralinstitut für Kunstgeschichte\, Photothek\, I. OG\, Raum 137\, Katharina-von-Bora-Straße 10\, 80333 München
CATEGORIES:2009
CLASS:PUBLIC
END:VEVENT
END:VCALENDAR
