BEGIN:VCALENDAR
PRODID:-//AT Content Types//AT Event//EN
VERSION:2.0
METHOD:PUBLISH
BEGIN:VEVENT
DTSTAMP:20260420T050101Z
CREATED:20130212T213237Z
UID:ATEvent-68347f2a5d23481ba181583915bc9b70
LAST-MODIFIED:20190628T113518Z
SUMMARY:Buchpräsentation: München 1947
DTSTART:20100113T184500Z
DTEND:20100113T190000Z
DESCRIPTION:Präsentation der Neuerscheinung Kunstgeschichte in Münch
 en 1947. Institutionen und Personen im Wiederaufbau. Herausgegeben von
  Iris Lauterbach\, München 2010.
LOCATION:Zentralinstitut für Kunstgeschichte\, Vortragsraum 242\, II. OG\, Katharina-von-Bora-Straße 10\, 80333 München
CATEGORIES:2010, Provenienzforschung
CLASS:PUBLIC
END:VEVENT
END:VCALENDAR
