BEGIN:VCALENDAR
PRODID:-//AT Content Types//AT Event//EN
VERSION:2.0
METHOD:PUBLISH
BEGIN:VEVENT
DTSTAMP:20260419T123848Z
CREATED:20130212T213238Z
UID:ATEvent-d8ed5019f4144bcdb267a2e231a0dd21
LAST-MODIFIED:20190628T114041Z
SUMMARY:Workshop Tamara Tolnai
DTSTART:20100204T160000Z
DTEND:20100204T180000Z
DESCRIPTION:Workshop T. Tolnai: Die Kunstpatronage der Familie Roverel
 la
LOCATION:Zentralinstitut für Kunstgeschichte\, Photothek\, I. OG\, Raum 137\, Katharina-von-Bora-Straße 10\, 80333 München
CATEGORIES:2010
CLASS:PUBLIC
END:VEVENT
END:VCALENDAR
