BEGIN:VCALENDAR
PRODID:-//AT Content Types//AT Event//EN
VERSION:2.0
METHOD:PUBLISH
BEGIN:VEVENT
DTSTAMP:20260423T021421Z
CREATED:20130212T213241Z
UID:ATEvent-3612719838da4427bf8fd2bb00096c52
LAST-MODIFIED:20190628T114216Z
SUMMARY:Vortrag Ingrid Ostermann
DTSTART:20100519T161500Z
DTEND:20100519T181500Z
DESCRIPTION:Vortrag I. Ostermann: Der Architekt Arthur Korn (1890-1978
 ) - vielseitiger Protagonist der Berliner Avantgarde der 1920er und fr
 ühen 1930er Jahre
LOCATION:Zentralinstitut für Kunstgeschichte\, Vortragsraum 242\, II. OG\, Katharina-von-Bora-Straße 10\, 80333 München
CATEGORIES:2010
CLASS:PUBLIC
END:VEVENT
END:VCALENDAR
