BEGIN:VCALENDAR
PRODID:-//AT Content Types//AT Event//EN
VERSION:2.0
METHOD:PUBLISH
BEGIN:VEVENT
DTSTAMP:20260420T050152Z
CREATED:20130212T213242Z
UID:ATEvent-c59d422c82b9480db05f8f148b842faf
LAST-MODIFIED:20190628T114226Z
SUMMARY:Filmvorführung: Die Päpstin
DTSTART:20100614T150000Z
DTEND:20100614T170000Z
DESCRIPTION:Filmvorführung: Erfahrungen beim Dreh eines historischen 
 Films: "Die Päpstin" (2009)\, Regie: Sönke Wortmann.
LOCATION:Zentralinstitut für Kunstgeschichte\, Photothek\, I. OG\, Raum 137\, Katharina-von-Bora-Straße 10\, 80333 München
CATEGORIES:2010
CLASS:PUBLIC
END:VEVENT
END:VCALENDAR
