BEGIN:VCALENDAR
PRODID:-//AT Content Types//AT Event//EN
VERSION:2.0
METHOD:PUBLISH
BEGIN:VEVENT
DTSTAMP:20260422T215315Z
CREATED:20130212T213242Z
UID:ATEvent-e6f497e338db44c8a5e0c07b01282b63
LAST-MODIFIED:20260209T124650Z
SUMMARY:Vortrag Barbara Catoir
DTSTART:20100623T161500Z
DTEND:20100623T181500Z
DESCRIPTION:Vortrag B. Catoir: Das Bibliotheksphänomen bei Arnulf Rai
 ner
LOCATION:Zentralinstitut für Kunstgeschichte\, Vortragsraum 242\, II. OG\, Katharina-von-Bora-Straße 10\, 80333 München
CATEGORIES:2010, Studienzentrum zur Moderne – Bibliothek Herzog Franz von Bayern am Zentralinstitut für Kunstgeschichte
CLASS:PUBLIC
END:VEVENT
END:VCALENDAR
