BEGIN:VCALENDAR
PRODID:-//AT Content Types//AT Event//EN
VERSION:2.0
METHOD:PUBLISH
BEGIN:VEVENT
DTSTAMP:20260424T230950Z
CREATED:20130212T213242Z
UID:ATEvent-f7e3cd132c5440cd8e8257abc3f9a44a
LAST-MODIFIED:20190628T114254Z
SUMMARY:Tagung: „Maschinenräume“ der Forschung
DTSTART:20100703T113000Z
DTEND:20100703T173000Z
DESCRIPTION:Tagung „Maschinenräume“ der Forschung: Kunst und Bibl
 iothek
LOCATION:Zentralinstitut für Kunstgeschichte\, Großer Lesesaal der Bibliothek\, I. OG\, Katharina-von-Bora-Straße 10\, 80333 München
CATEGORIES:2010, Kunstgeschichte als Wissen und Wissenschaft
CLASS:PUBLIC
END:VEVENT
END:VCALENDAR
