BEGIN:VCALENDAR
PRODID:-//AT Content Types//AT Event//EN
VERSION:2.0
METHOD:PUBLISH
BEGIN:VEVENT
DTSTAMP:20260420T083817Z
CREATED:20130212T213243Z
UID:ATEvent-813cebbb190e48b7a263abf51319a8cb
LAST-MODIFIED:20190628T114543Z
SUMMARY:Workshop Britta Hentschel
DTSTART:20100708T150000Z
DTEND:20100708T170000Z
DESCRIPTION:Workshop B. Hentschel: „Selig\, ihr Armen\, denn euch ge
 hört das Reich Gottes“. Fürsorgeeinrichtungen und Armenhäuser im 
 Fokus
LOCATION:Zentralinstitut für Kunstgeschichte\, Photothek\, I. OG\, Raum 137\, Katharina-von-Bora-Straße 10\, 80333 München
CATEGORIES:2010
CLASS:PUBLIC
END:VEVENT
END:VCALENDAR
