BEGIN:VCALENDAR
PRODID:-//AT Content Types//AT Event//EN
VERSION:1.0
BEGIN:VEVENT
DTSTART:20100916T150000Z
DTEND:20100916T170000Z
DCREATED:20130212T213244Z
UID:ATEvent-8a11113553bd4d41bb2cf3375f55e4d5
SEQUENCE:0
LAST-MODIFIED:20190628T113950Z
SUMMARY:Workshop Christin Barbarino
DESCRIPTION:Workshop C. Barbarino: "Die Malerbücher von Gerhard Alten
 bourg. Eine Annäherung“
LOCATION:Zentralinstitut für Kunstgeschichte\, Photothek\, I. OG\, Raum 137\, Katharina-von-Bora-Straße 10\, 80333 München
PRIORITY:3
TRANSP:0
END:VEVENT
END:VCALENDAR
