BEGIN:VCALENDAR
PRODID:-//AT Content Types//AT Event//EN
VERSION:1.0
BEGIN:VEVENT
DTSTART:20101013T161500Z
DTEND:20101013T181500Z
DCREATED:20130212T213245Z
UID:ATEvent-d844cc2234aa48b58fa428ec8581668f
SEQUENCE:0
LAST-MODIFIED:20190628T113936Z
SUMMARY:Vortrag Hubertus Günther
DESCRIPTION:Vortrag: Bramantes Tempietto in S. Pietro in Montorio. Ein
  Sonderfall der Antikenrezeption in der Renaissance
LOCATION:Zentralinstitut für Kunstgeschichte\, Vortragsraum 242\, II. OG\, Katharina-von-Bora-Straße 10\, 80333 München
PRIORITY:3
TRANSP:0
END:VEVENT
END:VCALENDAR
