BEGIN:VCALENDAR
PRODID:-//AT Content Types//AT Event//EN
VERSION:2.0
METHOD:PUBLISH
BEGIN:VEVENT
DTSTAMP:20260423T021421Z
CREATED:20130212T213246Z
UID:ATEvent-5e88c339adde45a8ab2c6797b383c832
LAST-MODIFIED:20190628T113858Z
SUMMARY:Verleihung Forschungspreis Angewandte Kunst
DTSTART:20101110T180000Z
DTEND:20101110T181500Z
DESCRIPTION:Verleihung des Forschungspreises Angewandte Kunst 2010 an 
 Silke Reiter
LOCATION:Zentralinstitut für Kunstgeschichte\, Vortragsraum 242\, II. OG\, Katharina-von-Bora-Straße 10\, 80333 München
CATEGORIES:2010
CLASS:PUBLIC
END:VEVENT
END:VCALENDAR
