BEGIN:VCALENDAR
PRODID:-//AT Content Types//AT Event//EN
VERSION:1.0
BEGIN:VEVENT
DTSTART:20101124T171500Z
DTEND:20101124T191500Z
DCREATED:20130212T213246Z
UID:ATEvent-65e6c6a145354c428f5faf26b511b303
SEQUENCE:0
LAST-MODIFIED:20241021T084705Z
SUMMARY:Festvortrag Theodor-Fischer-Preis 2010 // Despina Stratigakos: Building Female Modernity: Women and Architecture in Wilhelmine Berlin
DESCRIPTION:Aus Anlass der Vergabe des Theodor-Fischer-Preises 2010 an
  Dr. Hans-Stefan Bolz und Regina Heß.
LOCATION:Zentralinstitut für Kunstgeschichte\, Vortragsraum 242\, II. OG\, Katharina-von-Bora-Straße 10\, 80333 München
PRIORITY:3
TRANSP:0
END:VEVENT
END:VCALENDAR
