BEGIN:VCALENDAR
PRODID:-//AT Content Types//AT Event//EN
VERSION:1.0
BEGIN:VEVENT
DTSTART:20101208T170000Z
DTEND:20101208T190000Z
DCREATED:20130212T213246Z
UID:ATEvent-c5f1312468f941f982467f04767b2578
SEQUENCE:0
LAST-MODIFIED:20190628T113801Z
SUMMARY:Vortrag Sebastian Schütze
DESCRIPTION:Vortrag S. Schütze: Dichtung und Wahrheit oder Kunst und 
 Diplomatie: Bernini\, Francesco I. d'Este und Kardinal Mazarin (In Zus
 ammenarbeit mit dem Verein zur Förderung des Kunsthistorischen Instit
 uts in Florenz - Max-Planck-Institut e.V.)
LOCATION:Zentralinstitut für Kunstgeschichte\, Vortragsraum 242\, II. OG\, Katharina-von-Bora-Straße 10\, 80333 München
PRIORITY:3
TRANSP:0
END:VEVENT
END:VCALENDAR
