BEGIN:VCALENDAR
PRODID:-//AT Content Types//AT Event//EN
VERSION:1.0
BEGIN:VEVENT
DTSTART:20101208T090000Z
DTEND:20101208T170000Z
DCREATED:20130212T213247Z
UID:ATEvent-4298b1b212b44c048543215725c4625a
SEQUENCE:0
LAST-MODIFIED:20190628T113753Z
SUMMARY:Bücherflohmarkt
DESCRIPTION:Kunsthistorischer Bücherflohmarkt für aktuelle und antiq
 uarische Fachliteratur
LOCATION:Zentralinstitut für Kunstgeschichte\, Lichthof Nord\, I. OG\, Katharina-von-Bora-Straße 10\, 80333 München
PRIORITY:3
TRANSP:0
END:VEVENT
END:VCALENDAR
