BEGIN:VCALENDAR
PRODID:-//AT Content Types//AT Event//EN
VERSION:2.0
METHOD:PUBLISH
BEGIN:VEVENT
DTSTAMP:20260422T175152Z
CREATED:20130212T213247Z
UID:ATEvent-6733dcfdc3f14352a5b341a760126d6a
LAST-MODIFIED:20190628T112325Z
SUMMARY:Workshop Olena Balun und Sandra Steinleitner
DTSTART:20110208T160000Z
DTEND:20110208T190000Z
DESCRIPTION:Workshop O. Balun und S. Steinleitner: Neues Quellenmateri
 al zu Rudolf Berliner (1886-1967) und Ernst Kitzinger (1912-2003)
LOCATION:Zentralinstitut für Kunstgeschichte\, Photothek\, I. OG\, Raum 137\, Katharina-von-Bora-Straße 10\, 80333 München
CATEGORIES:2011, Provenienzforschung
CLASS:PUBLIC
END:VEVENT
END:VCALENDAR
