BEGIN:VCALENDAR
PRODID:-//AT Content Types//AT Event//EN
VERSION:2.0
METHOD:PUBLISH
BEGIN:VEVENT
DTSTAMP:20260420T050102Z
CREATED:20130212T213249Z
UID:ATEvent-aa995680aef346649b304649db110546
LAST-MODIFIED:20190628T112430Z
SUMMARY:Führung: NSDAP-Parteizentrum
DTSTART:20110505T150000Z
DTEND:20110505T170000Z
DESCRIPTION:Öffentliche Führung zur Geschichte des NSDAP-Parteizentr
 ums
LOCATION:Zentralinstitut für Kunstgeschichte\, Katharina-von-Bora-Straße 10\, 80333 München\, Eingangshalle
CATEGORIES:2011
CLASS:PUBLIC
END:VEVENT
END:VCALENDAR
