BEGIN:VCALENDAR
PRODID:-//AT Content Types//AT Event//EN
VERSION:2.0
METHOD:PUBLISH
BEGIN:VEVENT
DTSTAMP:20260423T114237Z
CREATED:20130212T213250Z
UID:ATEvent-caa0c76cb1a14be6bfc4b44b3f05e288
LAST-MODIFIED:20190628T112539Z
SUMMARY:Workshop Lisa Skogh
DTSTART:20110609T150000Z
DTEND:20110609T170000Z
DESCRIPTION:Workshop L. Skogh: A Liebhaberin of the Arts. Hedwig Eleon
 ora of Schleswig-Holstein-Gottorf (1636-1715)\, Queen Dowager of Swede
 n\, as Collector and Patron
LOCATION:Zentralinstitut für Kunstgeschichte\, Photothek\, I. OG\, Raum 137\, Katharina-von-Bora-Straße 10\, 80333 München
CATEGORIES:2011
CLASS:PUBLIC
END:VEVENT
END:VCALENDAR
