BEGIN:VCALENDAR
PRODID:-//AT Content Types//AT Event//EN
VERSION:2.0
METHOD:PUBLISH
BEGIN:VEVENT
DTSTAMP:20260423T015940Z
CREATED:20130212T213252Z
UID:ATEvent-50aec02404c5465bbe97a9f771ccbe43
LAST-MODIFIED:20190628T112600Z
SUMMARY:Workshop Pia Rudolph und Sebastian Schmidt
DTSTART:20110927T150000Z
DTEND:20110927T180000Z
DESCRIPTION:Workshop P. Rudolph und S. Schmidt: Gestalt bewahren. Krä
 uterdarstellungen und Bildnisse der Frühen Neuzeit
LOCATION:Zentralinstitut für Kunstgeschichte\, Photothek\, I. OG\, Raum 137\, Katharina-von-Bora-Straße 10\, 80333 München
CATEGORIES:2011
CLASS:PUBLIC
END:VEVENT
END:VCALENDAR
