BEGIN:VCALENDAR
PRODID:-//AT Content Types//AT Event//EN
VERSION:1.0
BEGIN:VEVENT
DTSTART:20111012T170000Z
DTEND:20111012T171500Z
DCREATED:20130212T213252Z
UID:ATEvent-2243957798aa42b09b67e24bbaae7a3a
SEQUENCE:0
LAST-MODIFIED:20190628T112626Z
SUMMARY:Verleihung Forschungspreis Angewandte Kunst
DESCRIPTION:Verleihung des Forschungspreises Angewandte Kunst 2011 an 
 Johanna Cremer\, Köln\, und Sophia Dietrich\, Frankfurt am Main.
LOCATION:Zentralinstitut für Kunstgeschichte\, Vortragsraum 242\, II. OG\, Katharina-von-Bora-Straße 10\, 80333 München
PRIORITY:3
TRANSP:0
END:VEVENT
END:VCALENDAR
