BEGIN:VCALENDAR
PRODID:-//AT Content Types//AT Event//EN
VERSION:2.0
METHOD:PUBLISH
BEGIN:VEVENT
DTSTAMP:20260421T094241Z
CREATED:20130212T213252Z
UID:ATEvent-4189bc02044d4bd986e4f4b618be6f6d
LAST-MODIFIED:20250326T101844Z
SUMMARY:Vortrag Hans-Ernst Mittig
DTSTART:20111019T161500Z
DTEND:20111019T181500Z
DESCRIPTION:Vortrag H.-E. Mittig: Offene Kapitel beim Umgang mit NS-Ku
 nst in Museum\, Ausstellung und Forschung
LOCATION:Zentralinstitut für Kunstgeschichte\, Vortragsraum 242\, II. OG\, Katharina-von-Bora-Straße 10\, 80333 München
CATEGORIES:2011, Reihe Die Großen Deutschen Kunstausstellungen
CLASS:PUBLIC
END:VEVENT
END:VCALENDAR
