BEGIN:VCALENDAR
PRODID:-//AT Content Types//AT Event//EN
VERSION:1.0
BEGIN:VEVENT
DTSTART:20111020T163000Z
DTEND:20111021T171500Z
DCREATED:20130212T213252Z
UID:ATEvent-2ff5d33361014c03b6c9ff9c6af1e2cf
SEQUENCE:0
LAST-MODIFIED:20250326T101901Z
SUMMARY:Tagung: Die Großen Deutschen Kunstausstellungen 1937-1944/45
DESCRIPTION:Die Großen Deutschen Kunstausstellungen 1937-1944/45. Int
 ernationale Tagung zur Freischaltung der Forschungsplattform „GDK Re
 search“
LOCATION:Zentralinstitut für Kunstgeschichte\, Lichthof Nord\, EG\, Katharina-von-Bora-Straße 10\, 80333 München
PRIORITY:3
TRANSP:0
END:VEVENT
END:VCALENDAR
