BEGIN:VCALENDAR
PRODID:-//AT Content Types//AT Event//EN
VERSION:2.0
METHOD:PUBLISH
BEGIN:VEVENT
DTSTAMP:20260420T165423Z
CREATED:20130212T213255Z
UID:ATEvent-e5553a0fd1e74587b049dd6b25de7fbf
LAST-MODIFIED:20190628T112728Z
SUMMARY:Vortrag Dorothea Diemer
DTSTART:20111116T171500Z
DTEND:20111116T191500Z
DESCRIPTION:Vortrag D. Diemer: Fragen zum Grabdenkmal Papst Clemens II
 . im Bamberger Dom
LOCATION:Zentralinstitut für Kunstgeschichte\, Vortragsraum 242\, II. OG\, Katharina-von-Bora-Straße 10\, 80333 München
CATEGORIES:2011
CLASS:PUBLIC
END:VEVENT
END:VCALENDAR
