BEGIN:VCALENDAR
PRODID:-//AT Content Types//AT Event//EN
VERSION:2.0
METHOD:PUBLISH
BEGIN:VEVENT
DTSTAMP:20260422T175219Z
CREATED:20130212T213255Z
UID:ATEvent-797bcee5e33b4e0393d85544a490c0a1
LAST-MODIFIED:20190628T112735Z
SUMMARY:Workshop Mona Schieren
DTSTART:20111201T160000Z
DTEND:20111201T180000Z
DESCRIPTION:Workshop M. Schieren: „Breaking the Line“. Fragen an R
 asterbilder von Agnes Martin
LOCATION:Zentralinstitut für Kunstgeschichte\, Photothek\, I. OG\, Raum 137\, Katharina-von-Bora-Straße 10\, 80333 München
CATEGORIES:2011
CLASS:PUBLIC
END:VEVENT
END:VCALENDAR
