BEGIN:VCALENDAR
PRODID:-//AT Content Types//AT Event//EN
VERSION:2.0
METHOD:PUBLISH
BEGIN:VEVENT
DTSTAMP:20260423T140351Z
CREATED:20130212T213256Z
UID:ATEvent-11240c40b62a4324a2adf53d36bf0513
LAST-MODIFIED:20190628T112758Z
SUMMARY:Verleihung Theodor-Fischer-Preis
DTSTART:20111214T180000Z
DTEND:20111214T181500Z
DESCRIPTION:Verleihung des Theodor-Fischer-Preises 2011 an Andreas Zee
 se\, Wien
LOCATION:Zentralinstitut für Kunstgeschichte\, Vortragsraum 242\, II. OG\, Katharina-von-Bora-Straße 10\, 80333 München
CATEGORIES:2011
CLASS:PUBLIC
END:VEVENT
END:VCALENDAR
