BEGIN:VCALENDAR
PRODID:-//AT Content Types//AT Event//EN
VERSION:2.0
METHOD:PUBLISH
BEGIN:VEVENT
DTSTAMP:20260420T083623Z
CREATED:20130212T213256Z
UID:ATEvent-c50fe081d06c4f12b2ab9d7830c34458
LAST-MODIFIED:20160317T093051Z
SUMMARY:Workshop Silke Reiter
DTSTART:20120126T160000Z
DTEND:20120126T180000Z
DESCRIPTION:Workshop S. Reiter: Von „geschütz und kriegsrüstung“
  - Militärtechnische Erfindungen des 16. Jahrhunderts
LOCATION:Zentralinstitut für Kunstgeschichte\, Photothek\, I. OG\, Raum 137\, Katharina-von-Bora-Straße 10\, 80333 München
CATEGORIES:2012
CLASS:PUBLIC
END:VEVENT
END:VCALENDAR
