BEGIN:VCALENDAR
PRODID:-//AT Content Types//AT Event//EN
VERSION:2.0
METHOD:PUBLISH
BEGIN:VEVENT
DTSTAMP:20260425T231918Z
CREATED:20130212T213257Z
UID:ATEvent-d7ff840b1cf1403cacf23650f81ba6d2
LAST-MODIFIED:20140925T101153Z
SUMMARY:Buchpräsentation: Kunsthistoriker im Krieg
DTSTART:20120208T170000Z
DTEND:20120208T173000Z
DESCRIPTION:Präsentation der Neuerscheinung Kunsthistoriker im Krieg 
 – Deutscher Militärischer Kunstschutz in Italien 1943–1945\, hg. 
 von Christian Fuhrmeister\, Johannes Griebel\, Stephan Klingen und Ral
 f Peters\, Köln: Böhlau Verlag\, 2012 (Veröffentlichungen des Zentr
 alinstituts für Kunstgeschichte in München\, Band 29)
LOCATION:Zentralinstitut für Kunstgeschichte\, Vortragsraum 242\, II. OG\, Katharina-von-Bora-Straße 10\, 80333 München
CATEGORIES:2012
CLASS:PUBLIC
END:VEVENT
END:VCALENDAR
