BEGIN:VCALENDAR
PRODID:-//AT Content Types//AT Event//EN
VERSION:1.0
BEGIN:VEVENT
DTSTART:20120208T173000Z
DTEND:20120208T193000Z
DCREATED:20130212T213257Z
UID:ATEvent-f1086d8dc5de4b369ecb9c40207a9e95
SEQUENCE:0
LAST-MODIFIED:20160401T161119Z
SUMMARY:Vortrag Marc Masurovsky
DESCRIPTION:Vortrag anlässlich der Buchpräsentation "Kunsthistoriker
  im Krieg" von M. Masurovsky: The Dynamics of Cultural Plunder in Year
  One of the German Occupation of France\, 1940-1941
LOCATION:Zentralinstitut für Kunstgeschichte\, Vortragsraum 242\, II. OG\, Katharina-von-Bora-Straße 10\, 80333 München
PRIORITY:3
TRANSP:0
END:VEVENT
END:VCALENDAR
