BEGIN:VCALENDAR
PRODID:-//AT Content Types//AT Event//EN
VERSION:2.0
METHOD:PUBLISH
BEGIN:VEVENT
DTSTAMP:20260422T100644Z
CREATED:20130212T213257Z
UID:ATEvent-944d8f5093de4be3b5bb8711352340a2
LAST-MODIFIED:20250326T101047Z
SUMMARY:Vortrag Veronica Biermann
DTSTART:20120215T171500Z
DTEND:20120215T191500Z
DESCRIPTION:Veronica Biermann: Das Bewegen schwerer Lasten und vom Sta
 unen in der Architektur
LOCATION:Zentralinstitut für Kunstgeschichte\, Vortragsraum 242\, II. OG\, Katharina-von-Bora-Straße 10\, 80333 München
CATEGORIES:2012, Reihe Heben, Bewegen, Steigen
CLASS:PUBLIC
END:VEVENT
END:VCALENDAR
