BEGIN:VCALENDAR
PRODID:-//AT Content Types//AT Event//EN
VERSION:2.0
METHOD:PUBLISH
BEGIN:VEVENT
DTSTAMP:20260423T045603Z
CREATED:20130212T213257Z
UID:ATEvent-ec83a5eaa3f64ae2913afff53614b0d4
LAST-MODIFIED:20160330T074358Z
SUMMARY:Vortrag Nicole Hegener
DTSTART:20120222T171500Z
DTEND:20120222T191500Z
DESCRIPTION:Nicole Hegener: Sub imagine navis: Schiffsallegorien in de
 r päpstlichen Bild-Propaganda des römischen Barock
LOCATION:Zentralinstitut für Kunstgeschichte\, Vortragsraum 242\, II. OG\, Katharina-von-Bora-Straße 10\, 80333 München
CATEGORIES:2012
CLASS:PUBLIC
END:VEVENT
END:VCALENDAR
