BEGIN:VCALENDAR
PRODID:-//AT Content Types//AT Event//EN
VERSION:2.0
METHOD:PUBLISH
BEGIN:VEVENT
DTSTAMP:20260421T054305Z
CREATED:20130212T213258Z
UID:ATEvent-13a2ced125054584b9ed0df94ca4f51f
LAST-MODIFIED:20160322T125610Z
SUMMARY:Vortrag Walter Cupperi
DTSTART:20120307T171500Z
DTEND:20120307T191500Z
DESCRIPTION:Walter Cupperi: Philip II and Italian Sculpture: a Trouble
 d Marriage?
LOCATION:Zentralinstitut für Kunstgeschichte\, Vortragsraum 242\, II. OG\, Katharina-von-Bora-Straße 10\, 80333 München
CATEGORIES:2012
CLASS:PUBLIC
END:VEVENT
END:VCALENDAR
