BEGIN:VCALENDAR
PRODID:-//AT Content Types//AT Event//EN
VERSION:1.0
BEGIN:VEVENT
DTSTART:20120314T171500Z
DTEND:20120314T191500Z
DCREATED:20130212T213258Z
UID:ATEvent-d214832fcf914a628e9cc2e9f8758bab
SEQUENCE:0
LAST-MODIFIED:20160405T101110Z
SUMMARY:Vortrag Avinoam Shalem
DESCRIPTION:Avinoam Shalem: Die Verdinglichung des Kunstwerks: das Cor
 pus der Mittelalterlichen Olifante im Rahmen des Corpus der Elfenbeins
 kulpturen von Goldschmidt und Weitzmann (in Zusammenarbeit mit dem Deu
 tschen Verein für Kunstwissenschaft e.V.)
LOCATION:Zentralinstitut für Kunstgeschichte\, Vortragsraum 242\, II. OG\, Katharina-von-Bora-Straße 10\, 80333 München
PRIORITY:3
TRANSP:0
END:VEVENT
END:VCALENDAR
