BEGIN:VCALENDAR
PRODID:-//AT Content Types//AT Event//EN
VERSION:2.0
METHOD:PUBLISH
BEGIN:VEVENT
DTSTAMP:20260423T181952Z
CREATED:20130212T213258Z
UID:ATEvent-137e65665a004bf3b121e63dfd602d42
LAST-MODIFIED:20160331T132115Z
SUMMARY:Buchpräsentation: Kunsttechnik und Kunstgeschichte
DTSTART:20120502T160000Z
DTEND:20120502T161500Z
DESCRIPTION:Präsentation der Neuerscheinung „Kunsttechnik und Kunst
 geschichte. Das Inkarnat in der Malerei des Mittelalters“\, hg. von 
 Esther Wipfler\, München 2012
LOCATION:Zentralinstitut für Kunstgeschichte\, Vortragsraum 242\, II. OG\, Katharina-von-Bora-Straße 10\, 80333 München
CATEGORIES:2012
CLASS:PUBLIC
END:VEVENT
END:VCALENDAR
