BEGIN:VCALENDAR
PRODID:-//AT Content Types//AT Event//EN
VERSION:2.0
METHOD:PUBLISH
BEGIN:VEVENT
DTSTAMP:20260425T161924Z
CREATED:20130212T213258Z
UID:ATEvent-bfde01c916f54edab22dc1b81b88350f
LAST-MODIFIED:20160404T090410Z
SUMMARY:Vortrag Kerstin Petermann
DTSTART:20120502T161500Z
DTEND:20120502T181500Z
DESCRIPTION:Kerstin Petermann: Das Inkarnat in der norddeutschen Maler
 ei und Skulptur des Mittelalters
LOCATION:Zentralinstitut für Kunstgeschichte\, Vortragsraum 242\, II. OG\, Katharina-von-Bora-Straße 10\, 80333 München
CATEGORIES:2012
CLASS:PUBLIC
END:VEVENT
END:VCALENDAR
