BEGIN:VCALENDAR
PRODID:-//AT Content Types//AT Event//EN
VERSION:1.0
BEGIN:VEVENT
DTSTART:20120627T160000Z
DTEND:20120627T161500Z
DCREATED:20130212T213300Z
UID:ATEvent-9210b78513d54083855e805c6ed220ce
SEQUENCE:0
LAST-MODIFIED:20130715T080652Z
SUMMARY:Verleihung Theodor-Fischer-Preis
DESCRIPTION:Verleihung des Theodor-Fischer-Preises 2012 an Dr. Anette 
 Freytag\, Zürich\, für ihre Dissertation "Natur entwerfen – Zum We
 rk des Schweizer Landschaftsarchitekten Dieter Kienast (1945-1998)"
LOCATION:Zentralinstitut für Kunstgeschichte\, Vortragsraum 242\, II. OG\, Katharina-von-Bora-Straße 10\, 80333 München
PRIORITY:3
TRANSP:0
END:VEVENT
END:VCALENDAR
