BEGIN:VCALENDAR
PRODID:-//AT Content Types//AT Event//EN
VERSION:1.0
BEGIN:VEVENT
DTSTART:20120711T161500Z
DTEND:20120711T181500Z
DCREATED:20130212T213300Z
UID:ATEvent-db5b0e47d76f4096acf294041f2161ca
SEQUENCE:0
LAST-MODIFIED:20250326T101308Z
SUMMARY:Vortrag Anette Freytag
DESCRIPTION:Anette Freytag: Die Natur der Stadt - Dieter Kienasts Beit
 rag zu einer neuen Ästhetik in der Landschaftsarchitektur
LOCATION:Zentralinstitut für Kunstgeschichte\, Vortragsraum 242\, II. OG\, Katharina-von-Bora-Straße 10\, 80333 München
PRIORITY:3
TRANSP:0
END:VEVENT
END:VCALENDAR
