BEGIN:VCALENDAR
PRODID:-//AT Content Types//AT Event//EN
VERSION:2.0
METHOD:PUBLISH
BEGIN:VEVENT
DTSTAMP:20260425T161923Z
CREATED:20130212T213300Z
UID:ATEvent-d490ee081e8541a88ebaf0a58e48686a
LAST-MODIFIED:20250326T101324Z
SUMMARY:Vortrag Regina Göckede
DTSTART:20120718T161500Z
DTEND:20120718T181500Z
DESCRIPTION:Regina Göckede: Heterotopolis - Studien zur spätkolonial
 en Globalisierung der Architekturmoderne
LOCATION:Zentralinstitut für Kunstgeschichte\, Vortragsraum 242\, II. OG\, Katharina-von-Bora-Straße 10\, 80333 München
CATEGORIES:2012, Reihe Stadt Park Natur
CLASS:PUBLIC
END:VEVENT
END:VCALENDAR
