BEGIN:VCALENDAR
PRODID:-//AT Content Types//AT Event//EN
VERSION:1.0
BEGIN:VEVENT
DTSTART:20121031T153000Z
DTEND:20121031T180000Z
DCREATED:20130212T213301Z
UID:ATEvent-5808bbb8e2d340bfbb44ace0a985ad6e
SEQUENCE:0
LAST-MODIFIED:20150629T142500Z
SUMMARY:Kolloquium: Provenienzforschung III
DESCRIPTION:Kolloquium: Provenienz- und Sammlungsforschung in München
  (III)
LOCATION:Zentralinstitut für Kunstgeschichte\, Vortragsraum 242\, II. OG\, Katharina-von-Bora-Straße 10\, 80333 München
PRIORITY:3
TRANSP:0
END:VEVENT
END:VCALENDAR
