BEGIN:VCALENDAR
PRODID:-//AT Content Types//AT Event//EN
VERSION:2.0
METHOD:PUBLISH
BEGIN:VEVENT
DTSTAMP:20260425T232029Z
CREATED:20130212T213301Z
UID:ATEvent-3be23700f26345c980966d3753fc5f97
LAST-MODIFIED:20130715T080653Z
SUMMARY:Verleihung Forschungspreis Angewandte Kunst
DTSTART:20121114T180000Z
DTEND:20121114T181500Z
DESCRIPTION:Verleihung des Forschungspreises Angewandte Kunst 2010 an 
 Daniela Stöppel\, München\, für ihre Dissertation Visuelle Zeichens
 ysteme in bildender und angewandter Kunst der Avantgarden
LOCATION:Zentralinstitut für Kunstgeschichte\, Vortragsraum 242\, II. OG\, Katharina-von-Bora-Straße 10\, 80333 München
CATEGORIES:2012
CLASS:PUBLIC
END:VEVENT
END:VCALENDAR
