BEGIN:VCALENDAR
PRODID:-//AT Content Types//AT Event//EN
VERSION:2.0
METHOD:PUBLISH
BEGIN:VEVENT
DTSTAMP:20260423T073535Z
CREATED:20130212T213301Z
UID:ATEvent-77970fa7d6254d3b9db3c6b35c4791ee
LAST-MODIFIED:20241021T081621Z
SUMMARY:Festvortrag Forschungspreis Angewandte Kunst 2012 // Hans Körner: „Bedeutung in den Bildern“ im dekorativen Rahmen
DTSTART:20121114T181500Z
DTEND:20121114T201500Z
DESCRIPTION:Aus Anlass der Vergabe des Forschungspreises Angewandte Ku
 nst 2012 an Dr. Daniela Stöppel für ihre Dissertation „Visuelle Ze
 ichensysteme in bildender und angewandter Kunst der Avantgarde“.
LOCATION:Zentralinstitut für Kunstgeschichte\, Vortragsraum 242\, II. OG\, Katharina-von-Bora-Straße 10\, 80333 München
CATEGORIES:2012, Festvortrag FAK
CLASS:PUBLIC
END:VEVENT
END:VCALENDAR
