BEGIN:VCALENDAR
PRODID:-//AT Content Types//AT Event//EN
VERSION:1.0
BEGIN:VEVENT
DTSTART:20121212T171500Z
DTEND:20121212T191500Z
DCREATED:20130212T213302Z
UID:ATEvent-4f1330edbad344518dded308a89c3992
SEQUENCE:0
LAST-MODIFIED:20250326T101451Z
SUMMARY:Vortrag Christian Demand
DESCRIPTION:Christian Demand: Flaches oder geneigtes Dach? Über das V
 erhältnis von Ethos und Gestaltung. In Zusammenarbeit mit dem DFG-Pro
 jekt "Kommentiertes Werkverzeichnis der Möbel und Möbelentwürfe Lud
 wig Mies van der Rohes"
LOCATION:Zentralinstitut für Kunstgeschichte\, Vortragsraum 242\, II. OG\, Katharina-von-Bora-Straße 10\, 80333 München
PRIORITY:3
TRANSP:0
END:VEVENT
END:VCALENDAR
